BEGIN:VCALENDAR
VERSION:2.0
METHOD:PUBLISH
PRODID:-//Causal Sarl//LionsBase Calendar 5.0.x-dev//DE
TZID:Europe/Zurich
BEGIN:VEVENT
UID:33874_20260612@kreuzenstein.lions.at
DTSTAMP:20260426T020810Z
DTSTART:20260612T173000Z
DTEND:20260612T200000Z
ORGANIZER:LC Deutsch-Wagram öffentlich
LOCATION:Garten der Musikschule Deutsch-Wagram\, Friedhofall
 ee 2\, 2232 Deutsch-Wagram
SUMMARY:Kabarett mit Bernhard Viktorin
DESCRIPTION:Lachen für den guten Zweck! \n\nAuch heuer laden
  wir wieder herzlich zu einem besonderen Benefiz-Kabarettabe
 nd mit Bernhard Viktorin ein. \n\n🗓 Freitag\, 12. Juni 2026\, 19:30 
 Uhr \n\n📍 Garten der Musikschule Deutsch-Wagram \n\nDas dies
 jährige Kabarett steht unter dem Motto „Irgendwas mit Mensch
 en“ – pointiert\, gesellschaftskritisch und humorvoll wie ge
 wohnt. \n\nDer Reinerlös kommt wie immer einem besonderen Hi
 lfsprojekt zugute. \n\n🎟 Karten sind an der Abendkassa sowie
  im Vorverkauf bei Bruno’s Kleinem Stadtcafé und im Stadtamt
  Deutsch-Wagram erhältlich. \n\nWir freuen uns auf Ihr und E
 uer Kommen! \n\nLions Club Deutsch-Wagram
END:VEVENT
END:VCALENDAR
